BEGIN:VCALENDAR
VERSION:2.0
PRODID:-//ChamberMaster//Event Calendar 2.0//EN
METHOD:PUBLISH
X-PUBLISHED-TTL:P3D
REFRESH-INTERVAL:P3D
CALSCALE:GREGORIAN
BEGIN:VEVENT
DTSTART:20080621T023000Z
DTEND:20080621T040000Z
X-MICROSOFT-CDO-ALLDAYEVENT:FALSE
SUMMARY:Movie in the Park
DESCRIPTION:Movie in the Park at Swimming Pool Park
X-ALT-DESC;FMTTYPE=text/html:<div>Movie in the Park at Swimming Pool Park</div>
LOCATION:Swimming Pool Park55 No. 200 W.\, Tooele
UID:e.125.377
SEQUENCE:3
DTSTAMP:20260424T185412Z
URL:https://members.tooelechamber.com/events/details/movie-in-the-park-06-20-2008-377
END:VEVENT

END:VCALENDAR
