BEGIN:VCALENDAR
VERSION:2.0
PRODID:-//ChamberMaster//Event Calendar 2.0//EN
METHOD:PUBLISH
X-PUBLISHED-TTL:P3D
REFRESH-INTERVAL:P3D
CALSCALE:GREGORIAN
BEGIN:VEVENT
DTSTART;VALUE=DATE:20110813
DTEND;VALUE=DATE:20110814
TRANSP:TRANSPARENT
X-MICROSOFT-CDO-ALLDAYEVENT:TRUE
SUMMARY:Mud Run MS
DESCRIPTION:Mud Run MS is a 10K (6.2-mile) foot race through approximately 30 military-style obstacles made of or surrounded by mud. Teams of five compete in the co-ed\, all-male or all-female divisions. Participants can also enter as an individual or team of two. Mud Run MS is not a relay. Each member of a team must complete the entire race\, and the entire team must complete the race within 15 seconds of each other to qualify for competition.\n\n \n\nMud Run MS is the fastest-growing adventure race in the country. The National MS Society and Mud Run have partnered to create a unique fundraising event for MS in Utah. As some adventure races have a limited audience due to the extreme fitness level involved\, Mud Run MS provides an opportunity for people of all skill levels to join in the muddy fun!
X-ALT-DESC;FMTTYPE=text/html:Mud Run MS is a 10K (6.2-mile) foot race through approximately 30 military-style obstacles made of or surrounded by mud. Teams of five compete in the co-ed\, all-male or all-female divisions. Participants can also enter as an individual or team of two. Mud Run MS is not a relay. Each member of a team must complete the entire race\, and the entire team must complete the race within 15 seconds of each other to qualify for competition.\n<br> \n<br>Mud Run MS is the fastest-growing adventure race in the country. The National MS Society and Mud Run have partnered to create a unique fundraising event for MS in Utah. As some adventure races have a limited audience due to the extreme fitness level involved\, Mud Run MS provides an opportunity for people of all skill levels to join in the muddy fun!
LOCATION:Miller Motorsports Park
UID:e.125.3657
SEQUENCE:3
DTSTAMP:20260422T043207Z
URL:https://members.tooelechamber.com/events/details/mud-run-ms-08-13-2011-3657
END:VEVENT

END:VCALENDAR
