BEGIN:VCALENDAR
VERSION:2.0
PRODID:-//ChamberMaster//Event Calendar 2.0//EN
METHOD:PUBLISH
X-PUBLISHED-TTL:P3D
REFRESH-INTERVAL:P3D
CALSCALE:GREGORIAN
BEGIN:VEVENT
DTSTART;VALUE=DATE:20091103
DTEND;VALUE=DATE:20091104
TRANSP:TRANSPARENT
X-MICROSOFT-CDO-ALLDAYEVENT:TRUE
SUMMARY:Municipal Elections
DESCRIPTION:Municipal Elections. 435-843-3143www.tooele.ut.us/clerk.html
X-ALT-DESC;FMTTYPE=text/html:<div><font face="Frutiger-LightCn" size="1"><font face="Frutiger-LightCn" size="1"><p align="center"><font size="4">Municipal Elections. 435-843-3143</font></p><p align="center"><font size="4">www.tooele.ut.us/clerk.html</font></p></font></font></div>
LOCATION:
UID:e.125.1232
SEQUENCE:3
DTSTAMP:20260423T133951Z
URL:https://members.tooelechamber.com/events/details/municipal-elections-11-03-2009-1232
END:VEVENT

END:VCALENDAR
