BEGIN:VCALENDAR
VERSION:2.0
PRODID:-//ChamberMaster//Event Calendar 2.0//EN
METHOD:PUBLISH
X-PUBLISHED-TTL:P3D
REFRESH-INTERVAL:P3D
CALSCALE:GREGORIAN
BEGIN:VEVENT
DTSTART;VALUE=DATE:20090901
DTEND;VALUE=DATE:20090912
TRANSP:TRANSPARENT
X-MICROSOFT-CDO-ALLDAYEVENT:TRUE
SUMMARY:Municipal Primary Election Early Voting.
DESCRIPTION:Municipal Primary Election Early Voting.435-843-3143www.tooele.ut.us/clerk.htm
X-ALT-DESC;FMTTYPE=text/html:<div><font face="Frutiger-LightCn" size="1"><font face="Frutiger-LightCn" size="1"><p align="center"><font size="4">Municipal Primary Election Early Voting.</font></p><p align="center"><font size="4">435-843-3143</font></p><p align="center"><font size="4">www.tooele.ut.us/clerk.htm</font></p></font></font></div>
LOCATION:
UID:e.125.1219
SEQUENCE:3
DTSTAMP:20260423T181907Z
URL:https://members.tooelechamber.com/events/details/municipal-primary-election-early-voting-09-01-2009-1219
END:VEVENT

END:VCALENDAR
