BEGIN:VCALENDAR
VERSION:2.0
PRODID:-//ChamberMaster//Event Calendar 2.0//EN
METHOD:PUBLISH
X-PUBLISHED-TTL:P3D
REFRESH-INTERVAL:P3D
CALSCALE:GREGORIAN
BEGIN:VEVENT
DTSTART;VALUE=DATE:20090912
DTEND;VALUE=DATE:20090913
TRANSP:TRANSPARENT
X-MICROSOFT-CDO-ALLDAYEVENT:TRUE
SUMMARY:Museum Day at the Mill\, Benson
DESCRIPTION:Museum Day at the Mill\, BensonGristmill. Contact: 435-882-7678www.bensonmill.org
X-ALT-DESC;FMTTYPE=text/html:<div><font face="Frutiger-LightCn" size="1"><font face="Frutiger-LightCn" size="1"><p align="center"><font size="4">Museum Day at the Mill\, Benson</font></p><p align="center"><font size="4">Gristmill. Contact: 435-882-7678</font></p><p align="center"><font size="4">www.bensonmill.org</font></p></font></font></div>
LOCATION:
UID:e.125.1223
SEQUENCE:3
DTSTAMP:20260423T181855Z
URL:https://members.tooelechamber.com/events/details/museum-day-at-the-mill-benson-09-12-2009-1223
END:VEVENT

END:VCALENDAR
