BEGIN:VCALENDAR
VERSION:2.0
PRODID:-//ChamberMaster//Event Calendar 2.0//EN
METHOD:PUBLISH
X-PUBLISHED-TTL:P3D
REFRESH-INTERVAL:P3D
CALSCALE:GREGORIAN
BEGIN:VEVENT
DTSTART:20100817T010000Z
DTEND:20100818T040000Z
X-MICROSOFT-CDO-ALLDAYEVENT:FALSE
SUMMARY:''Music Man''
DESCRIPTION:Benson Mill Performing Arts Presents:"Music Man"August 13-14 & 16-17\, 2010At the Benson Grist Mill Preshow begins at 7:00pm Performance begins at dark about 8:30pm
X-ALT-DESC;FMTTYPE=text/html:<div><div style="text-align: center"><span style="font-size: x-large">Benson Mill Performing Arts Presents:</span></div><div style="text-align: center"><strong><span style="font-size: x-large">&quot\;Music Man&quot\;</span></strong></div><div style="text-align: center"><span style="font-size: x-large">August 13-14 &amp\; 16-17\, 2010</span></div><div style="text-align: center"><span style="font-size: x-large">At the Benson Grist Mill </span></div><div style="text-align: center"><span style="font-size: x-large">Preshow begins at 7:00pm </span></div><div style="text-align: center"><span style="font-size: x-large">Performance begins at dark about 8:30pm</span></div></div>
LOCATION:
UID:e.125.3186
SEQUENCE:3
DTSTAMP:20260422T234151Z
URL:https://members.tooelechamber.com/events/details/music-man-08-16-2010-3186
END:VEVENT

END:VCALENDAR
