BEGIN:VCALENDAR
VERSION:2.0
PRODID:-//ChamberMaster//Event Calendar 2.0//EN
METHOD:PUBLISH
X-PUBLISHED-TTL:P3D
REFRESH-INTERVAL:P3D
CALSCALE:GREGORIAN
BEGIN:VEVENT
DTSTART;VALUE=DATE:20080801
DTEND;VALUE=DATE:20080804
TRANSP:TRANSPARENT
X-MICROSOFT-CDO-ALLDAYEVENT:TRUE
SUMMARY:NASCAR Camping World Series
DESCRIPTION:
X-ALT-DESC;FMTTYPE=text/html:
LOCATION:Miller Motorsports Park
UID:e.125.223
SEQUENCE:3
DTSTAMP:20260424T140941Z
URL:https://members.tooelechamber.com/events/details/nascar-camping-world-series-08-01-2008-223
END:VEVENT

END:VCALENDAR
