BEGIN:VCALENDAR
VERSION:2.0
PRODID:-//ChamberMaster//Event Calendar 2.0//EN
METHOD:PUBLISH
X-PUBLISHED-TTL:P3D
REFRESH-INTERVAL:P3D
CALSCALE:GREGORIAN
BEGIN:VEVENT
DTSTART;VALUE=DATE:20090731
DTEND;VALUE=DATE:20090802
TRANSP:TRANSPARENT
X-MICROSOFT-CDO-ALLDAYEVENT:TRUE
SUMMARY:NASCAR Camping World Series West
DESCRIPTION:The thundering stock cars of the NASCAR Camping World Series (formerly Grand National West Series) return to Miller Motorsports Park for a third year to tackle the demanding 3.08-mile Perimeter Course. These heavy cars are difficult to manhandle around a road course\, and last year's event was thrilling from start to finish. Don't miss your chance to get the best of both worlds -- stock cars and road racing!
X-ALT-DESC;FMTTYPE=text/html:The thundering stock cars of the NASCAR Camping World Series (formerly Grand National West Series) return to Miller Motorsports Park for a third year to tackle the demanding 3.08-mile Perimeter Course. These heavy cars are difficult to manhandle around a road course\, and last year's event was thrilling from start to finish. Don't miss your chance to get the best of both worlds -- stock cars and road racing!\n\n
LOCATION:Miller Motorsports Park
UID:e.125.493
SEQUENCE:3
DTSTAMP:20260423T195857Z
URL:https://members.tooelechamber.com/events/details/nascar-camping-world-series-west-07-31-2009-493
END:VEVENT

END:VCALENDAR
