BEGIN:VCALENDAR
VERSION:2.0
PRODID:-//ChamberMaster//Event Calendar 2.0//EN
METHOD:PUBLISH
X-PUBLISHED-TTL:P3D
REFRESH-INTERVAL:P3D
CALSCALE:GREGORIAN
BEGIN:VEVENT
DTSTART:20100928T000000Z
DTEND:20100928T010000Z
X-MICROSOFT-CDO-ALLDAYEVENT:FALSE
SUMMARY:National Eat Dinner With Your Family Night
DESCRIPTION:National Eat Dinner With Your Family Night Monday\, Sept. 27\, 2010 @ 6:00pmTooele City Swimming Pool Park 55 North 200 West\, Tooele Families of all ages are invited to attend (All youth must be accompanied by an adult)Come enjoy a night with FREE dinner\, activities\, and HELP your family benefit from eating together!Families will be given a coupon ($5 for entire family) to swim that evening at the Pratt Aquatic Center.
X-ALT-DESC;FMTTYPE=text/html:<div style="text-align: center"><u><strong><span style="font-size: medium"><span style="font-family: Verdana">National Eat Dinner With Your Family Night </span></span></strong></u></div><div style="text-align: center"><span style="font-size: medium"><span style="font-family: Verdana">Monday\, Sept. 27\, 2010 @ 6:00pm</span></span></div><div style="text-align: center"><span style="font-size: medium"><span style="font-family: Verdana">Tooele City Swimming Pool Park </span></span></div><div style="text-align: center"><span style="font-size: medium"><span style="font-family: Verdana">55 North 200 West\, Tooele </span></span></div><div style="text-align: center"><span style="font-size: medium"><span style="font-family: Verdana">Families of all ages are invited to attend </span></span></div><div style="text-align: center"><span style="font-size: medium"><span style="font-family: Verdana">(All youth must be accompanied by an adult)</span></span></div><div style="text-align: center"><span style="font-size: medium"><span style="font-family: Verdana">Come enjoy a night with FREE dinner\, activities\, and HELP your family benefit from eating together!</span></span></div><div style="text-align: center"><span style="font-size: medium"><span style="font-family: Verdana">Families will be given a coupon ($5 for entire family) to swim that evening at the Pratt Aquatic Center.</span></span></div>
LOCATION:
UID:e.125.3234
SEQUENCE:3
DTSTAMP:20260422T220307Z
URL:https://members.tooelechamber.com/events/details/national-eat-dinner-with-your-family-night-09-27-2010-3234
END:VEVENT

END:VCALENDAR
