BEGIN:VCALENDAR
VERSION:2.0
PRODID:-//ChamberMaster//Event Calendar 2.0//EN
METHOD:PUBLISH
X-PUBLISHED-TTL:P3D
REFRESH-INTERVAL:P3D
CALSCALE:GREGORIAN
BEGIN:VEVENT
DTSTART;VALUE=DATE:20090615
DTEND;VALUE=DATE:20090616
TRANSP:TRANSPARENT
X-MICROSOFT-CDO-ALLDAYEVENT:TRUE
SUMMARY:National Pony Express Association Re-ride
DESCRIPTION:National Pony Express Association Re-Ride. Utah Section.http://www.xphomestation.com/
X-ALT-DESC;FMTTYPE=text/html:<div><font face="Frutiger-LightCn" size="1"><font face="Frutiger-LightCn" size="1"><p align="center"><font size="4">National Pony Express Association </font></p><p align="center"><font size="4">Re-</font><font size="4">Ride. Utah Section.</font></p><p align="center"><font size="4">http://www.xphomestation.com/</font></p></font></font></div>
LOCATION:
UID:e.125.621
SEQUENCE:3
DTSTAMP:20260423T213528Z
URL:https://members.tooelechamber.com/events/details/national-pony-express-association-re-ride-06-15-2009-621
END:VEVENT

END:VCALENDAR
