BEGIN:VCALENDAR
VERSION:2.0
PRODID:-//ChamberMaster//Event Calendar 2.0//EN
METHOD:PUBLISH
X-PUBLISHED-TTL:P3D
REFRESH-INTERVAL:P3D
CALSCALE:GREGORIAN
BEGIN:VEVENT
DTSTART:20130804T160000Z
DTEND:20130804T173000Z
X-MICROSOFT-CDO-ALLDAYEVENT:FALSE
SUMMARY:New Life Christian Fellowship
DESCRIPTION:All are welcome to worship at New Life Christian Fellowship. Our goal is to help each other personally discover\, engage\, and reveal Jesus. The morning includes socializing\, singing\, teaching from the Bible\, and classes for kids. Dress is casual.
X-ALT-DESC;FMTTYPE=text/html:All are welcome to worship at New Life Christian Fellowship. Our goal is to help each other personally discover\, engage\, and reveal Jesus. The morning includes socializing\, singing\, teaching from the Bible\, and classes for kids. Dress is casual.<span _fck_bookmark="1" style="display: none">&nbsp\;</span>
LOCATION:Stansbury High School (5300 Aberdeen)
UID:e.125.3443
SEQUENCE:3
DTSTAMP:20260420T114147Z
URL:https://members.tooelechamber.com/events/details/new-life-christian-fellowship-08-04-2013-3443
END:VEVENT

END:VCALENDAR
