BEGIN:VCALENDAR
VERSION:2.0
PRODID:-//ChamberMaster//Event Calendar 2.0//EN
METHOD:PUBLISH
X-PUBLISHED-TTL:P3D
REFRESH-INTERVAL:P3D
CALSCALE:GREGORIAN
BEGIN:VEVENT
DTSTART:20140716T000000Z
DTEND:20140716T010000Z
X-MICROSOFT-CDO-ALLDAYEVENT:FALSE
SUMMARY:Oh My Tech!: Tech Tutors at the City Library
DESCRIPTION:Become Better at one thing in just one hour. Get tech savvy with a personal tech tutor! Choose from topics like email\, internet\, Facebook\, and common software programs like word\, excel\, and many more! Get the personal help you need to succeed! Free technology workshop. Beginners to advanced computer users are welcome.
X-ALT-DESC;FMTTYPE=text/html:Become Better at one thing in just one hour. Get tech savvy with a personal tech tutor! Choose from topics like email\, internet\, Facebook\, and common software programs like word\, excel\, and many more! Get the personal help you need to succeed! Free technology workshop. Beginners to advanced&nbsp\;computer users are welcome.
LOCATION:City Library 128 W Vine St\, Tooele
UID:e.125.5348
SEQUENCE:3
DTSTAMP:20260419T162742Z
URL:https://members.tooelechamber.com/events/details/oh-my-tech-tech-tutors-at-the-city-library-07-15-2014-5348
END:VEVENT

END:VCALENDAR
