BEGIN:VCALENDAR
VERSION:2.0
PRODID:-//ChamberMaster//Event Calendar 2.0//EN
METHOD:PUBLISH
X-PUBLISHED-TTL:P3D
REFRESH-INTERVAL:P3D
CALSCALE:GREGORIAN
BEGIN:VEVENT
DTSTART;VALUE=DATE:20121212
DTEND;VALUE=DATE:20121213
TRANSP:TRANSPARENT
X-MICROSOFT-CDO-ALLDAYEVENT:TRUE
SUMMARY:Open House
DESCRIPTION:Tooele County Chamber of Commerce\n\nOpen House\n\n\n\nYou are invited to attend our \n\nAnnual Christmas \n\nOpen House \n\nWednesday\, December 12th 2012 \n\n11:00 am-2:00 pm \n\nAt the new Chamber Building\n\n154 South Main\, Tooele\n\nLunch will be provided \n\nNo RSVP is required \n\nNo charge for this event
X-ALT-DESC;FMTTYPE=text/html:<span style="font-size: 20px"><strong><span style="font-family: arial"><u>Tooele County Chamber of Commerce<br />\nOpen House</u><br />\n<br />\n<span style="font-weight: bold\; language: en-us"><span style="font-size: 11pt">You are invited to attend our </span></span><br />\n<span style="font-weight: bold\; language: en-us"><span style="font-size: 11pt">Annual Christmas </span></span><br />\n<span style="font-weight: bold\; language: en-us"><span style="font-size: 11pt">Open House </span></span><br />\n<span style="font-weight: bold\; language: en-us"><span style="font-size: 11pt">Wednesday\, December 12th 2012 </span></span><br />\n<span style="font-weight: bold\; language: en-us"><span style="font-size: 11pt">11:00 am-2:00 pm </span></span><br />\n<span style="font-weight: bold\; language: en-us"><span style="font-size: 11pt">At the new Chamber Building</span></span><br />\n<span style="font-weight: bold\; language: en-us"><span style="font-size: 11pt">154 South Main\, Tooele</span></span><br />\n<span style="font-weight: bold\; language: en-us"><span style="font-size: 11pt">Lunch will be provided </span></span><br />\n<span style="font-weight: bold\; language: en-us"><span style="font-size: 11pt">No RSVP is required </span></span><br />\n<span style="font-weight: bold\; language: en-us"><span style="font-size: 11pt">No charge for this event&nbsp\;</span></span></span><br />\n&nbsp\;&nbsp\;</strong></span><br />\n<br />\n
LOCATION:
UID:e.125.4675
SEQUENCE:3
DTSTAMP:20260421T013303Z
URL:https://members.tooelechamber.com/events/details/open-house-12-12-2012-4675
END:VEVENT

END:VCALENDAR
