BEGIN:VCALENDAR
VERSION:2.0
PRODID:-//ChamberMaster//Event Calendar 2.0//EN
METHOD:PUBLISH
X-PUBLISHED-TTL:P3D
REFRESH-INTERVAL:P3D
CALSCALE:GREGORIAN
BEGIN:VEVENT
DTSTART:20120414T170000Z
DTEND:20120414T190000Z
X-MICROSOFT-CDO-ALLDAYEVENT:FALSE
SUMMARY:Open House for Open High School of Utah
DESCRIPTION:Attend an Open House and see how Open High School is transforming education as the top Utah online high school. We'll show you how you can tailor your education to fit your strengths and interests. Come join us and learn more about Open High School and how you can be a part of this innovative school.\n\n	\n		Meet teachers/students\n\n\n	\n		Demo classes\n\n\n	\n		Ask questions
X-ALT-DESC;FMTTYPE=text/html:<p class="MsoNormal">\n	Attend an Open House and see how Open High School is transforming education as the top Utah online high school. We&rsquo\;ll show you how you can tailor your education to fit your strengths and interests. Come join us and learn more about Open High School and how you can be a part of this innovative school.</p>\n<ul style="margin-top: 0in" type="disc">\n	<li class="MsoNormal">\n		Meet teachers/students<o:p></o:p></li>\n</ul>\n<ul style="margin-top: 0in" type="disc">\n	<li class="MsoNormal">\n		Demo classes<o:p></o:p></li>\n</ul>\n<ul style="margin-top: 0in" type="disc">\n	<li class="MsoNormal">\n		Ask questions<o:p></o:p></li>\n</ul>\n
LOCATION:Tooele Library 128 West Vine Street Tooele\, UT 84074
UID:e.125.4834
SEQUENCE:3
DTSTAMP:20260421T173947Z
URL:https://members.tooelechamber.com/events/details/open-house-for-open-high-school-of-utah-04-14-2012-4834
END:VEVENT

END:VCALENDAR
