BEGIN:VCALENDAR
VERSION:2.0
PRODID:-//ChamberMaster//Event Calendar 2.0//EN
METHOD:PUBLISH
X-PUBLISHED-TTL:P3D
REFRESH-INTERVAL:P3D
CALSCALE:GREGORIAN
BEGIN:VEVENT
DTSTART;VALUE=DATE:20090615
DTEND;VALUE=DATE:20090620
TRANSP:TRANSPARENT
X-MICROSOFT-CDO-ALLDAYEVENT:TRUE
SUMMARY:Open House for the New Emergency Management Building
DESCRIPTION:You are invited to attend an Open House forthe new Tooele County Emergency Management Buildinglocated at 15 East 100 South\, Tooele\, UTCome at your convenience anytime Monday June 15th through Friday June 19th from 8:00 am to 6:00 p.m.Tour the Emergency Operations Center and the 911 Dispatch Center.Receive a free gift and refreshments.For more information call TCEM at 833-8100.
X-ALT-DESC;FMTTYPE=text/html:<div style="margin: 0in 0in 0pt" align="center"><font size="5">You are invited to attend an Open House for</font></div><div style="margin: 0in 0in 0pt" align="center"><font size="5">the new Tooele County Emergency Management Building</font></div><div style="margin: 0in 0in 0pt" align="center"><font size="5">located at 15 East 100 South\, Tooele\, UT</font></div><div style="margin: 0in 0in 0pt" align="center"><font size="5">Come at your convenience anytime </font></div><div style="margin: 0in 0in 0pt" align="center"><font size="5">Monday June 15<sup>th</sup> through Friday June 19<sup>th</sup> </font></div><div style="margin: 0in 0in 0pt" align="center"><font size="5">from 8:00 am to 6:00 p.m.</font></div><div style="margin: 0in 0in 0pt" align="center"><font size="5">Tour the Emergency Operations Center and the 911 Dispatch Center.</font></div><div style="margin: 0in 0in 0pt" align="center"><font size="5">Receive a free gift and refreshments.</font></div><div style="margin: 0in 0in 0pt" align="center"><font size="5">For more information call TCEM at 833-8100.</font></div>
LOCATION:
UID:e.125.2533
SEQUENCE:3
DTSTAMP:20260423T230356Z
URL:https://members.tooelechamber.com/events/details/open-house-for-the-new-emergency-management-building-06-15-2009-2533
END:VEVENT

END:VCALENDAR
