BEGIN:VCALENDAR
VERSION:2.0
PRODID:-//ChamberMaster//Event Calendar 2.0//EN
METHOD:PUBLISH
X-PUBLISHED-TTL:P3D
REFRESH-INTERVAL:P3D
CALSCALE:GREGORIAN
BEGIN:VEVENT
DTSTART:20131018T000000Z
DTEND:20131018T020000Z
X-MICROSOFT-CDO-ALLDAYEVENT:FALSE
SUMMARY:Open House-Tooele Resource Center
DESCRIPTION:Tooele Resource Center\n\n23 South Main St. # 33\n\nTooele\n\nOctober 17th\, 2013\n\n6 pm to 8 pm\n\n\n\nCome & learn about Tooele Resource Center & What they offer.
X-ALT-DESC;FMTTYPE=text/html:Tooele Resource Center<br />\n23 South Main St. # 33<br />\nTooele<br />\nOctober 17th\, 2013<br />\n6 pm to 8 pm<br />\n<br />\nCome &amp\; learn about Tooele Resource Center &amp\; What they offer.
LOCATION:
UID:e.125.5057
SEQUENCE:3
DTSTAMP:20260420T080106Z
URL:https://members.tooelechamber.com/events/details/open-house-tooele-resource-center-10-17-2013-5057
END:VEVENT

END:VCALENDAR
