BEGIN:VCALENDAR
VERSION:2.0
PRODID:-//ChamberMaster//Event Calendar 2.0//EN
METHOD:PUBLISH
X-PUBLISHED-TTL:P3D
REFRESH-INTERVAL:P3D
CALSCALE:GREGORIAN
BEGIN:VEVENT
DTSTART;VALUE=DATE:20110730
DTEND;VALUE=DATE:20110731
TRANSP:TRANSPARENT
X-MICROSOFT-CDO-ALLDAYEVENT:TRUE
SUMMARY:Ophir Days
DESCRIPTION:Ophir Days \n\n	Ophir Ball Park \n\n	Contact: 435-882-0603
X-ALT-DESC;FMTTYPE=text/html:<p style="text-align: center">\n	<span style="font-size: 24px">Ophir Days </span></p>\n<p style="text-align: center">\n	<span style="font-size: 24px">Ophir Ball Park </span></p>\n<p style="text-align: center">\n	<span style="font-size: 24px">Contact: 435-882-0603</span></p>\n
LOCATION:
UID:e.125.3544
SEQUENCE:3
DTSTAMP:20260422T060023Z
URL:https://members.tooelechamber.com/events/details/ophir-days-07-30-2011-3544
END:VEVENT

END:VCALENDAR
