BEGIN:VCALENDAR
VERSION:2.0
PRODID:-//ChamberMaster//Event Calendar 2.0//EN
METHOD:PUBLISH
X-PUBLISHED-TTL:P3D
REFRESH-INTERVAL:P3D
CALSCALE:GREGORIAN
BEGIN:VEVENT
DTSTART:20100918T170000Z
DTEND:20100918T220000Z
X-MICROSOFT-CDO-ALLDAYEVENT:FALSE
SUMMARY:Ophir Fest 2010
DESCRIPTION:Ophir Historic District Museum\n\nOphir Fest 2010\n\nGrand opening of the School House replica\n\nFood and Craft Vendors\n\nTours and historical information\n\nSilent auction\, fun for everyone\n\nFundraiser for the museum
X-ALT-DESC;FMTTYPE=text/html:Ophir Historic District Museum<br />\nOphir Fest 2010<br />\nGrand opening of the School House replica<br />\nFood and Craft Vendors<br />\nTours and historical information<br />\nSilent auction\, fun&nbsp\;for everyone<br />\nFundraiser for the museum
LOCATION:Ophir Historic District Museum Site
UID:e.125.3240
SEQUENCE:3
DTSTAMP:20260422T215909Z
URL:https://members.tooelechamber.com/events/details/ophir-fest-2010-09-18-2010-3240
END:VEVENT

END:VCALENDAR
