BEGIN:VCALENDAR
VERSION:2.0
PRODID:-//ChamberMaster//Event Calendar 2.0//EN
METHOD:PUBLISH
X-PUBLISHED-TTL:P3D
REFRESH-INTERVAL:P3D
CALSCALE:GREGORIAN
BEGIN:VEVENT
DTSTART:20070519T190000Z
DTEND:20070519T210000Z
X-MICROSOFT-CDO-ALLDAYEVENT:FALSE
SUMMARY:Ophir Historic District Ribbon Cutting & Grand Opening
DESCRIPTION:Ribbon Cutting by the Tooele Chamber of Commerce. Grand Opening of the new Historic District Museum. Starts at 1:00 p.m. with a ribbon cutting\, a short program\,  demonstrations\, light refreshments and tours of the historic homes.
X-ALT-DESC;FMTTYPE=text/html:Ribbon Cutting by the Tooele Chamber of Commerce. Grand Opening of the new Historic District Museum. Starts at 1:00 p.m. with a ribbon cutting\, a short program\,&nbsp\; demonstrations\, light refreshments and tours of the historic homes.&nbsp\;
LOCATION:Ophir Historic Site # 52 Main Street Ophir\, Utah
UID:e.125.74
SEQUENCE:3
DTSTAMP:20260425T125414Z
URL:https://members.tooelechamber.com/events/details/ophir-historic-district-ribbon-cutting-grand-opening-05-19-2007-74
END:VEVENT

END:VCALENDAR
