BEGIN:VCALENDAR
VERSION:2.0
PRODID:-//ChamberMaster//Event Calendar 2.0//EN
METHOD:PUBLISH
X-PUBLISHED-TTL:P3D
REFRESH-INTERVAL:P3D
CALSCALE:GREGORIAN
BEGIN:VEVENT
DTSTART:20100303T020000Z
DTEND:20100303T030000Z
X-MICROSOFT-CDO-ALLDAYEVENT:FALSE
SUMMARY:Ophir Town Council
DESCRIPTION:Ophir Town Council7 pmOphir Town Hall
X-ALT-DESC;FMTTYPE=text/html:<div align="center"><font size="5">Ophir Town Council</font></div><div align="center"><font size="5">7 pm</font></div><div align="center"><font size="5">Ophir Town Hall</font></div>
LOCATION:
UID:e.125.1278
SEQUENCE:3
DTSTAMP:20260423T080338Z
URL:https://members.tooelechamber.com/events/details/ophir-town-council-03-02-2010-1278
END:VEVENT

END:VCALENDAR
