BEGIN:VCALENDAR
VERSION:2.0
PRODID:-//ChamberMaster//Event Calendar 2.0//EN
METHOD:PUBLISH
X-PUBLISHED-TTL:P3D
REFRESH-INTERVAL:P3D
CALSCALE:GREGORIAN
BEGIN:VEVENT
DTSTART:20090912T170000Z
DTEND:20090912T220000Z
X-MICROSOFT-CDO-ALLDAYEVENT:FALSE
SUMMARY:OphirFest
DESCRIPTION:OphirFest -Historic District Celebration with Food\, Historic Tours\, Craft Vendors\, Prize Drawings and Fun for the entire Family.
X-ALT-DESC;FMTTYPE=text/html:<div>OphirFest -Historic District Celebration with Food\, Historic Tours\, Craft Vendors\, Prize Drawings and Fun for the entire&nbsp\;Family.</div>
LOCATION:Ophir Historic SiteMain St.Ophir\, UT 84071
UID:e.125.2564
SEQUENCE:3
DTSTAMP:20260423T164116Z
URL:https://members.tooelechamber.com/events/details/ophirfest-09-12-2009-2564
END:VEVENT

END:VCALENDAR
