BEGIN:VCALENDAR
VERSION:2.0
PRODID:-//ChamberMaster//Event Calendar 2.0//EN
METHOD:PUBLISH
X-PUBLISHED-TTL:P3D
REFRESH-INTERVAL:P3D
CALSCALE:GREGORIAN
BEGIN:VEVENT
DTSTART;VALUE=DATE:20090501
DTEND;VALUE=DATE:20090502
TRANSP:TRANSPARENT
X-MICROSOFT-CDO-ALLDAYEVENT:TRUE
SUMMARY:Oquirrh Hills Junior Golf
DESCRIPTION:May-AugustOquirrh Hills Junior GolfClinics and Camps for Boys and Girlsages 8-17. Register at Oquirrh Hills GolfCourse\, 1255 E. Vine435-882-4220
X-ALT-DESC;FMTTYPE=text/html:<div><font face="SquareSerif-Black-DTC" color="#231ce6" size="2"><font face="SquareSerif-Black-DTC" color="#231ce6" size="2"><font face="SquareSerif-Black-DTC" color="#231ce6" size="4"><p align="center">May-August</p></font></font></font><font face="Frutiger-LightCn" size="1"><font face="Frutiger-LightCn" size="1"><p align="center"><font size="4">Oquirrh Hills Junior Golf</font></p><p align="center"><font size="4">Clinics and Camps for Boys and Girls</font></p><p align="center"><font size="4">ages 8-17. Register at Oquirrh Hills Golf</font></p><p align="center"><font size="4">Course\, 1255 E. Vine</font></p><p align="center"><font size="4">435-882-4220</font></p></font></font></div>
LOCATION:
UID:e.125.566
SEQUENCE:3
DTSTAMP:20260423T232026Z
URL:https://members.tooelechamber.com/events/details/oquirrh-hills-junior-golf-05-01-2009-566
END:VEVENT

END:VCALENDAR
