BEGIN:VCALENDAR
VERSION:2.0
PRODID:-//ChamberMaster//Event Calendar 2.0//EN
METHOD:PUBLISH
X-PUBLISHED-TTL:P3D
REFRESH-INTERVAL:P3D
CALSCALE:GREGORIAN
BEGIN:VEVENT
DTSTART:20090325T223000Z
DTEND:20090325T230000Z
X-MICROSOFT-CDO-ALLDAYEVENT:FALSE
SUMMARY:Origami at Tooele City Library
DESCRIPTION:Origami Leap Frog Fun is being held March 25th at 4:30Be sure to get your entry form.Tooele City Library128 West Vine\, Tooele435-882-2182
X-ALT-DESC;FMTTYPE=text/html:<div align="center"><font size="4">Origami Leap Frog Fun is being held March 25th at 4:30</font></div><div align="center"><font size="4">Be sure to get your entry form.</font></div><div align="center"><font size="4">Tooele City Library</font></div><div align="center"><font size="4">128 West Vine\, Tooele</font></div><div align="center"><font size="4">435-882-2182</font></div>
LOCATION:
UID:e.125.558
SEQUENCE:3
DTSTAMP:20260424T023341Z
URL:https://members.tooelechamber.com/events/details/origami-at-tooele-city-library-03-25-2009-558
END:VEVENT

END:VCALENDAR
