BEGIN:VCALENDAR
VERSION:2.0
PRODID:-//ChamberMaster//Event Calendar 2.0//EN
METHOD:PUBLISH
X-PUBLISHED-TTL:P3D
REFRESH-INTERVAL:P3D
CALSCALE:GREGORIAN
BEGIN:VEVENT
DTSTART:20090617T000000Z
DTEND:20090617T013000Z
X-MICROSOFT-CDO-ALLDAYEVENT:FALSE
SUMMARY:Parenting Class
DESCRIPTION:Parenting Class Valley Mental Health of Tooele is committed to improving\, enhancing and strengthening individuals\, families\, and community lives.  One way we do this is by providing a parenting class where fathers and mothers can come together and improve their parenting skills. The parenting class is a eight-week course that helps parents better understand their child's development\, learn ways to strengthening the parent-child relationship\, and refine their non-abusive discipline methods.  We encourage all parents to bring their concerns and questions to class and learn how the information provided will apply to their personal situations. The next 8-week class will be held at our facility located at 100 S 1000 W\, Tooele\, every Tuesday from  6:00   7:30 p.m.\, May 5- June 23\, 2009. The cost of this course is $72\, or Medicaid is accepted for full coverage of cost (for open clients).  PCN insurance is not accepted.   For more information callValley Mental Health of Tooele.843-3520
X-ALT-DESC;FMTTYPE=text/html:<p class="MsoNormal" style="margin: 0in 0in 0pt\; text-align: center" align="center"><span style="font-family: &quot\;Clarendon Condensed&quot\;"><o:p><font face="Times New Roman" size="3">&nbsp\;</font></o:p></span></p><h1 style="margin: 0in 0in 0pt" align="center"><span style="font-size: 30pt\; font-family: &quot\;Cooper Lt BT&quot\;\; mso-bidi-font-size: 12.0pt"><font face="Times New Roman"><font size="3">Parenting Class<o:p></o:p></font></font></span></h1><h1 style="margin: 0in 0in 0pt" align="center"><span style="font-size: 20pt\; mso-bidi-font-size: 12.0pt"><o:p><font face="Times New Roman" size="3">&nbsp\;</font></o:p></span></h1><p class="MsoBodyText" style="margin: 0in 0in 0pt" align="center"><span style="font-size: 18pt"><font face="Times New Roman"><font size="3">Valley Mental Health of Tooele is committed to improving\, enhancing and strengthening individuals\, families\, and community lives.<span style="mso-spacerun: yes">&nbsp\; </span>One way we do this is by providing a parenting class where fathers and mothers can come together and improve their parenting skills.<o:p></o:p></font></font></span></p><p class="MsoNormal" style="margin: 0in 0in 0pt\; text-align: center" align="center"><span style="font-size: 18pt"><o:p><font face="Times New Roman" size="3">&nbsp\;</font></o:p></span></p><p class="MsoBodyText" style="margin: 0in 0in 0pt" align="center"><span style="font-size: 18pt"><font face="Times New Roman"><font size="3">The parenting class is a eight-week course that helps parents better understand their child&rsquo\;s development\, learn ways to strengthening the parent-child relationship\, and refine their non-abusive discipline methods.<span style="mso-spacerun: yes">&nbsp\; </span>We encourage all parents to bring their concerns and questions to class and learn how the information provided will apply to their <o:p></o:p></font></font></span></p><p class="MsoBodyText" style="margin: 0in 0in 0pt" align="center"><span style="font-size: 18pt"><font face="Times New Roman"><font size="3">personal situations.<o:p></o:p></font></font></span></p><p class="MsoNormal" style="margin: 0in 0in 0pt\; text-align: center" align="center"><span style="font-size: 18pt"><o:p><font face="Times New Roman" size="3">&nbsp\;</font></o:p></span></p><p class="MsoNormal" style="margin: 0in 0in 0pt\; text-align: center" align="center"><span style="font-size: 18pt"><font face="Times New Roman"><font size="3">The next <u>8-week class</u> will be held at our facility located at <u>100 S 1000 W\, Tooele</u>\, every Tuesday from <span style="mso-spacerun: yes">&nbsp\;</span><u>6:00 &ndash\; 7:30 p.m</u>.\, <strong style="mso-bidi-font-weight: normal">May 5- June 23\, 2009</strong>. <o:p></o:p></font></font></span></p><p class="MsoNormal" style="margin: 0in 0in 0pt\; text-align: center" align="center"><span style="font-size: 18pt"><font face="Times New Roman"><font size="3">The cost of this course is $72\, <o:p></o:p></font></font></span></p><p class="MsoNormal" style="margin: 0in 0in 0pt\; text-align: center" align="center"><span style="font-size: 18pt"><font face="Times New Roman"><font size="3">or Medicaid is accepted for full coverage of cost (for open clients).<span style="mso-spacerun: yes">&nbsp\; </span>PCN insurance is not accepted.<span style="mso-spacerun: yes">&nbsp\; </span><o:p></o:p></font></font></span></p><p class="MsoNormal" style="margin: 0in 0in 0pt\; text-align: center" align="center"><span style="font-size: 18pt\; font-family: &quot\;Cooper Lt BT&quot\;"><o:p><font face="Times New Roman" size="3">&nbsp\;</font></o:p></span></p><h2 style="margin: 0in 0in 0pt" align="center"><span style="font-size: 18pt\; font-family: &quot\;Cooper Lt BT&quot\;\; mso-bidi-font-size: 12.0pt"><font face="Times New Roman"><font size="3">For more information call<o:p></o:p></font></font></span></h2><h2 style="margin: 0in 0in 0pt" align="center"><span style="font-size: 18pt\; font-family: &quot\;Cooper Lt BT&quot\;\; mso-bidi-font-size: 12.0pt"><font face="Times New Roman"><font size="3">Valley Mental Health of Tooele.<o:p></o:p></font></font></span></h2><h2 style="margin: 0in 0in 0pt" align="center"><span style="font-size: 18pt\; font-family: &quot\;Cooper Lt BT&quot\;\; mso-bidi-font-size: 12.0pt"><font face="Times New Roman"><font size="3">843-3520<o:p></o:p></font></font></span></h2><div><v:shapetype id="_x0000_t75" stroked="f" filled="f" path="m@4@5l@4@11@9@11@9@5xe" o:preferrelative="t" o:spt="75" coordsize="21600\,21600"><v:stroke joinstyle="miter"></v:stroke><v:formulas><v:f eqn="if lineDrawn pixelLineWidth 0"></v:f><v:f eqn="sum @0 1 0"></v:f><v:f eqn="sum 0 0 @1"></v:f><v:f eqn="prod @2 1 2"></v:f><v:f eqn="prod @3 21600 pixelWidth"></v:f><v:f eqn="prod @3 21600 pixelHeight"></v:f><v:f eqn="sum @0 0 1"></v:f><v:f eqn="prod @6 1 2"></v:f><v:f eqn="prod @7 21600 pixelWidth"></v:f><v:f eqn="sum @8 21600 0"></v:f><v:f eqn="prod @7 21600 pixelHeight"></v:f><v:f eqn="sum @10 21600 0"></v:f></v:formulas><v:path o:connecttype="rect" gradientshapeok="t" o:extrusionok="f"></v:path><o:lock aspectratio="t" v:ext="edit"></o:lock></v:shapetype></div><div class="MsoNormal" style="margin: 0in 0in 0pt\; text-align: center" align="center"><v:shape id="_x0000_i1025" style="width: 373.5pt\; height: 16.5pt" o:hr="t" o:hralign="center" o:hrpct="0" type="#_x0000_t75"><v:imagedata o:title="BD21303_" src="file:///C:\\DOCUME~1\\User\\LOCALS~1\\Temp\\msohtml1\\01\\clip_image001.gif"></v:imagedata></v:shape></div>
LOCATION:
UID:e.125.2503
SEQUENCE:3
DTSTAMP:20260423T213253Z
URL:https://members.tooelechamber.com/events/details/parenting-class-06-16-2009-2503
END:VEVENT

END:VCALENDAR
