BEGIN:VCALENDAR
VERSION:2.0
PRODID:-//ChamberMaster//Event Calendar 2.0//EN
METHOD:PUBLISH
X-PUBLISHED-TTL:P3D
REFRESH-INTERVAL:P3D
CALSCALE:GREGORIAN
BEGIN:VEVENT
DTSTART:20121010T000000Z
DTEND:20121010T013000Z
X-MICROSOFT-CDO-ALLDAYEVENT:FALSE
SUMMARY:Parenting Class
DESCRIPTION:Valley Mental Health Parenting Classes \n\n	100 South 1000 West\, Tooele\n\n	8 week course Tuesday nights from 6-7:30pm\n\n	cost: $80 (unless covered by Medicaid\, PCN not accepted)\n\n	September 4th - October 23rd
X-ALT-DESC;FMTTYPE=text/html:<p style="text-align: center">\n	<span style="font-size: 26px"><em><u><strong>Valley Mental Health Parenting Classes </strong></u></em><br />\n	100 South 1000 West\, Tooele<br />\n	8 week course Tuesday nights from 6-7:30pm<br />\n	cost: $80 (unless covered by Medicaid\, PCN not accepted)<br />\n	September 4th -&nbsp\;October 23rd&nbsp\;<span _fck_bookmark="1" style="display: none">&nbsp\;</span></span></p>\n
LOCATION:
UID:e.125.3930
SEQUENCE:3
DTSTAMP:20260421T051459Z
URL:https://members.tooelechamber.com/events/details/parenting-class-10-09-2012-3930
END:VEVENT

END:VCALENDAR
