BEGIN:VCALENDAR
VERSION:2.0
PRODID:-//ChamberMaster//Event Calendar 2.0//EN
METHOD:PUBLISH
X-PUBLISHED-TTL:P3D
REFRESH-INTERVAL:P3D
CALSCALE:GREGORIAN
BEGIN:VEVENT
DTSTART:20121107T010000Z
DTEND:20121107T023000Z
X-MICROSOFT-CDO-ALLDAYEVENT:FALSE
SUMMARY:Parenting Class
DESCRIPTION:Valley Mental Health Parenting Classes \n\n	100 South 1000 West\, Tooele\n\n	8 week course Tuesday nights from 6-7:30pm\n\n	cost: $80 (unless covered by Medicaid\, PCN not accepted)\n\n	October 30th - December 18th
X-ALT-DESC;FMTTYPE=text/html:<p style="text-align: center">\n	<span style="font-size: 26px"><em><u><strong>Valley Mental Health Parenting Classes </strong></u></em><br />\n	100 South 1000 West\, Tooele<br />\n	8 week course Tuesday nights from 6-7:30pm<br />\n	cost: $80 (unless covered by Medicaid\, PCN not accepted)<br />\n	October 30th - December 18th &nbsp\;<span _fck_bookmark="1" style="display: none">&nbsp\;</span></span></p>\n
LOCATION:
UID:e.125.3934
SEQUENCE:3
DTSTAMP:20260421T050725Z
URL:https://members.tooelechamber.com/events/details/parenting-class-11-06-2012-3934
END:VEVENT

END:VCALENDAR
