BEGIN:VCALENDAR
VERSION:2.0
PRODID:-//ChamberMaster//Event Calendar 2.0//EN
METHOD:PUBLISH
X-PUBLISHED-TTL:P3D
REFRESH-INTERVAL:P3D
CALSCALE:GREGORIAN
BEGIN:VEVENT
DTSTART:20100616T000000Z
DTEND:20100616T013000Z
X-MICROSOFT-CDO-ALLDAYEVENT:FALSE
SUMMARY:Parenting Classes
DESCRIPTION:Valley Mental Health Parenting Classes The parenting class is an eight-week course that helps parents better understand child development\, strengthen the parent-child relationship\, positive communication\, and refine non-abusive discipline methods.  Tuesday's starting May 4-June 22\, 20106-7:30pm @ 100 South 1000 West\, Tooele Cost: $72\, or Medicaid is accepted for full coverage of cost (for open clients).  PCN insurance is not accepted.  For more information\, please call Valley Mental Health of Tooele (435)843-3520
X-ALT-DESC;FMTTYPE=text/html:<div><div><div style="text-align: center"><span style="font-size: large"><span style="font-family: Arial"><u><strong>Valley Mental Health </strong></u></span></span></div><div style="text-align: center"><span style="font-size: large"><span style="font-family: Arial"><u><strong>Parenting Classes </strong></u></span></span></div><div style="text-align: center"><span style="font-size: large"><span style="font-family: Arial"><p class="MsoBodyText" style="margin: 0in 0in 0pt"><span style="font-size: medium"><font face="Times New Roman">The parenting class is an eight-week course that helps parents better understand child development\, strengthen the parent-child relationship\, positive communication\, and refine non-abusive discipline methods.<span style="mso-spacerun: yes">&nbsp\; </span></font></span></p><p class="MsoBodyText" style="margin: 0in 0in 0pt"><span style="font-size: medium"><font face="Times New Roman"><span style="mso-spacerun: yes">Tuesday&rsquo\;s starting May 4-June 22\, 2010</span></font></span></p><p class="MsoBodyText" style="margin: 0in 0in 0pt"><span style="font-size: medium"><font face="Times New Roman"><span style="mso-spacerun: yes">6-7:30pm @ 100 South 1000 West\, Tooele </span></font></span></p><p class="MsoBodyText" style="margin: 0in 0in 0pt"><span style="font-size: medium"><font face="Times New Roman"><span style="mso-spacerun: yes">Cost: </span></font></span><span style="font-size: medium"><font face="Times New Roman"><span style="mso-spacerun: yes"><span style="font-family: &rsquo\;Times New Roman&rsquo\;\,&rsquo\;serif&rsquo\;\; mso-fareast-font-family: &rsquo\;Times New Roman&rsquo\;\; mso-ansi-language: EN-US\; mso-fareast-language: EN-US\; mso-bidi-language: AR-SA">$72\, or Medicaid is accepted for full coverage of cost (for open clients).<span style="mso-spacerun: yes">&nbsp\; </span>PCN insurance is not accepted.<span style="mso-spacerun: yes">&nbsp\; </span></span></span></font></span></p><p class="MsoBodyText" style="margin: 0in 0in 0pt"><span style="font-size: medium"><font face="Times New Roman"><span style="mso-spacerun: yes"><span style="font-family: &rsquo\;Times New Roman&rsquo\;\,&rsquo\;serif&rsquo\;\; mso-fareast-font-family: &rsquo\;Times New Roman&rsquo\;\; mso-ansi-language: EN-US\; mso-fareast-language: EN-US\; mso-bidi-language: AR-SA"><span style="mso-spacerun: yes">For more information\, please call Valley Mental Health of Tooele </span></span></span></font></span></p><p class="MsoBodyText" style="margin: 0in 0in 0pt"><span style="font-size: medium"><font face="Times New Roman"><span style="mso-spacerun: yes"><span style="font-family: &rsquo\;Times New Roman&rsquo\;\,&rsquo\;serif&rsquo\;\; mso-fareast-font-family: &rsquo\;Times New Roman&rsquo\;\; mso-ansi-language: EN-US\; mso-fareast-language: EN-US\; mso-bidi-language: AR-SA"><span style="mso-spacerun: yes">(435)843-3520</span></span></span></font></span></p></span></span></div></div></div>
LOCATION:
UID:e.125.3160
SEQUENCE:3
DTSTAMP:20260423T044304Z
URL:https://members.tooelechamber.com/events/details/parenting-classes-06-15-2010-3160
END:VEVENT

END:VCALENDAR
