BEGIN:VCALENDAR
VERSION:2.0
PRODID:-//ChamberMaster//Event Calendar 2.0//EN
METHOD:PUBLISH
X-PUBLISHED-TTL:P3D
REFRESH-INTERVAL:P3D
CALSCALE:GREGORIAN
BEGIN:VEVENT
DTSTART;VALUE=DATE:20110704
DTEND;VALUE=DATE:20110705
TRANSP:TRANSPARENT
X-MICROSOFT-CDO-ALLDAYEVENT:TRUE
SUMMARY:Park Activities and Entertainment
DESCRIPTION:Park Activities and Entertainment\n\n	after parade Tooele City Park 200 West Vine Street\, Tooele
X-ALT-DESC;FMTTYPE=text/html:<p style="text-align: center">\n	<span style="font-size: 26px">Park Activities and Entertainment<br />\n	after parade Tooele City Park 200 West Vine Street\, Tooele</span></p>\n
LOCATION:
UID:e.125.3717
SEQUENCE:3
DTSTAMP:20260422T074111Z
URL:https://members.tooelechamber.com/events/details/park-activities-and-entertainment-07-04-2011-3717
END:VEVENT

END:VCALENDAR
