BEGIN:VCALENDAR
VERSION:2.0
PRODID:-//ChamberMaster//Event Calendar 2.0//EN
METHOD:PUBLISH
X-PUBLISHED-TTL:P3D
REFRESH-INTERVAL:P3D
CALSCALE:GREGORIAN
BEGIN:VEVENT
DTSTART:20080419T210000Z
DTEND:20080420T010000Z
X-MICROSOFT-CDO-ALLDAYEVENT:FALSE
SUMMARY:Performances of Missoula Children's Theatre
DESCRIPTION:Saturday\, April 19th\, 2008 at 3 pm and 7 pmTooele High School Auditorium (301 West Vine St.\, Tooele)Tickets available at door$3 Adult\, $2 Child\, $10 Family
X-ALT-DESC;FMTTYPE=text/html:<p>Saturday\, April 19th\, 2008 at 3 pm and 7 pm</p><p>Tooele High School Auditorium (301 West Vine St.\, Tooele)</p><p>Tickets available at door</p><p>$3 Adult\, $2 Child\, $10 Family</p>
LOCATION:
UID:e.125.387
SEQUENCE:3
DTSTAMP:20260424T203947Z
URL:https://members.tooelechamber.com/events/details/performances-of-missoula-children-s-theatre-04-19-2008-387
END:VEVENT

END:VCALENDAR
