BEGIN:VCALENDAR
VERSION:2.0
PRODID:-//ChamberMaster//Event Calendar 2.0//EN
METHOD:PUBLISH
X-PUBLISHED-TTL:P3D
REFRESH-INTERVAL:P3D
CALSCALE:GREGORIAN
BEGIN:VEVENT
DTSTART:20090320T010000Z
DTEND:20090320T030000Z
X-MICROSOFT-CDO-ALLDAYEVENT:FALSE
SUMMARY:Photography Class
DESCRIPTION:"What's this Button Do?"March 19th\, 7-9 pmFull class listing at www.tooelecity.orgto register come to Tooele City Hall90 North Main\, Tooelemore information call 435-843-2142
X-ALT-DESC;FMTTYPE=text/html:<div align="center"><font size="4">&quot\;What's this Button Do?&quot\;</font></div><div align="center"><font size="4">March 19th\, 7-9 pm</font></div><div align="center"><font size="4">Full class listing at </font><a href="http://www.tooelecity.org"><font size="4">www.tooelecity.org</font></a></div><div align="center"><font size="4">to register come to Tooele City Hall</font></div><div align="center"><font size="4">90 North Main\, Tooele</font></div><div align="center"><font size="4">more information call 435-843-2142</font></div>
LOCATION:
UID:e.125.557
SEQUENCE:3
DTSTAMP:20260424T035930Z
URL:https://members.tooelechamber.com/events/details/photography-class-03-19-2009-557
END:VEVENT

END:VCALENDAR
