BEGIN:VCALENDAR
VERSION:2.0
PRODID:-//ChamberMaster//Event Calendar 2.0//EN
METHOD:PUBLISH
X-PUBLISHED-TTL:P3D
REFRESH-INTERVAL:P3D
CALSCALE:GREGORIAN
BEGIN:VEVENT
DTSTART:20140607T223000Z
DTEND:20140608T003000Z
X-MICROSOFT-CDO-ALLDAYEVENT:FALSE
SUMMARY:Piano Recital
DESCRIPTION:Rep: J. Christiansen
X-ALT-DESC;FMTTYPE=text/html:Rep: J. Christiansen
LOCATION:Conference Room
UID:e.125.5497
SEQUENCE:3
DTSTAMP:20260419T181433Z
URL:https://members.tooelechamber.com/events/details/piano-recital-06-07-2014-5497
END:VEVENT

END:VCALENDAR
