BEGIN:VCALENDAR
VERSION:2.0
PRODID:-//ChamberMaster//Event Calendar 2.0//EN
METHOD:PUBLISH
X-PUBLISHED-TTL:P3D
REFRESH-INTERVAL:P3D
CALSCALE:GREGORIAN
BEGIN:VEVENT
DTSTART;VALUE=DATE:20090420
DTEND;VALUE=DATE:20090421
TRANSP:TRANSPARENT
X-MICROSOFT-CDO-ALLDAYEVENT:TRUE
SUMMARY:Pinocchio Auditions
DESCRIPTION:Who: Tooele Children\, K-8thGradeWhen: April 20\, 2009\, 4:00 p.m.Where: Copper CanyonElementary(1600 N. Broadway\, Tooele) For more information call TerraSherwood at 843-2142.
X-ALT-DESC;FMTTYPE=text/html:<div><strong><font face="Arial Black"> <p align="left">Who: Tooele Children\, K-8th</p><p align="left">Grade</p><p align="left">When: April 20\, 2009\, 4:00 p.m.</p><p align="left">Where: Copper Canyon</p><p align="left">Elementary</p><p>(1600 N. Broadway\, Tooele)</p></font><font face="Arial Black"><p><strong><font face="Arial Black" size="2"><font face="Arial Black" size="2"> </font></font></strong></p><p align="left">For more information call Terra</p><p>Sherwood at 843-2142.</p></font></strong></div>
LOCATION:
UID:e.125.1236
SEQUENCE:3
DTSTAMP:20260424T020918Z
URL:https://members.tooelechamber.com/events/details/pinocchio-auditions-04-20-2009-1236
END:VEVENT

END:VCALENDAR
