BEGIN:VCALENDAR
VERSION:2.0
PRODID:-//ChamberMaster//Event Calendar 2.0//EN
METHOD:PUBLISH
X-PUBLISHED-TTL:P3D
REFRESH-INTERVAL:P3D
CALSCALE:GREGORIAN
BEGIN:VEVENT
DTSTART:20140725T010000Z
DTEND:20140725T040000Z
X-MICROSOFT-CDO-ALLDAYEVENT:FALSE
SUMMARY:Pioneer Day Family Celebration
DESCRIPTION:Pioneer Day Family Celebration at 7:00 Pm followed by a movie in the park at 9:00 Pm at the Swimming Pool Park
X-ALT-DESC;FMTTYPE=text/html:Pioneer Day Family&nbsp\;Celebration at 7:00 Pm followed by a movie in the park at 9:00 Pm at the Swimming Pool Park
LOCATION:Swimming Pool Park 55 North 200 West\, Tooele
UID:e.125.5353
SEQUENCE:3
DTSTAMP:20260419T162945Z
URL:https://members.tooelechamber.com/events/details/pioneer-day-family-celebration-07-24-2014-5353
END:VEVENT

END:VCALENDAR
