BEGIN:VCALENDAR
VERSION:2.0
PRODID:-//ChamberMaster//Event Calendar 2.0//EN
METHOD:PUBLISH
X-PUBLISHED-TTL:P3D
REFRESH-INTERVAL:P3D
CALSCALE:GREGORIAN
BEGIN:VEVENT
DTSTART:20090606T160000Z
DTEND:20090606T200000Z
X-MICROSOFT-CDO-ALLDAYEVENT:FALSE
SUMMARY:Pioneer Jubilee
DESCRIPTION:PIONEER JUBILEE !SATURDAY\, JUNE 610 AM TO 2 PMFOOD\, GAMES\, ACTIVITIES\,ENTERTAINMENT\, & TOURS!47 East Vine St.
X-ALT-DESC;FMTTYPE=text/html:<div><strong><font face="ComicSansMS-Bold" size="2"><font face="ComicSansMS-Bold" size="2"><p align="center"><font size="4">PIONEER JUBILEE</font></p><font face="ComicSansMS-Bold" size="2"><font face="ComicSansMS-Bold" size="2"><p align="center">&nbsp\;</p></font></font></font></font></strong></div><p align="center"><font face="ComicSansMS" size="2"><font face="ComicSansMS" size="2"><font size="4">!</font></font></font></p><p align="center"><font size="4">SATURDAY\, JUNE 6</font></p><p align="center"><font size="4">10 AM TO 2 PM</font></p><p align="center"><font size="4">FOOD\, GAMES\, ACTIVITIES\,</font></p><p align="center"><font size="4">ENTERTAINMENT\, &amp\; TOURS!</font></p><p align="center"><font size="4">47 East Vine St.</font></p>
LOCATION:
UID:e.125.2521
SEQUENCE:3
DTSTAMP:20260423T213452Z
URL:https://members.tooelechamber.com/events/details/pioneer-jubilee-06-06-2009-2521
END:VEVENT

END:VCALENDAR
