BEGIN:VCALENDAR
VERSION:2.0
PRODID:-//ChamberMaster//Event Calendar 2.0//EN
METHOD:PUBLISH
X-PUBLISHED-TTL:P3D
REFRESH-INTERVAL:P3D
CALSCALE:GREGORIAN
BEGIN:VEVENT
DTSTART;VALUE=DATE:20110611
DTEND;VALUE=DATE:20110612
TRANSP:TRANSPARENT
X-MICROSOFT-CDO-ALLDAYEVENT:TRUE
SUMMARY:Pioneer Jubilee
DESCRIPTION:Tooele County Daughter of Utah Pioneers \n\n	Pioneer Jubilee\n\n	Saturday\, June 11\, 2011\n\n	47 East Vine Street\, Tooele\n\n	843-0771
X-ALT-DESC;FMTTYPE=text/html:<p style="text-align: center">\n	<span style="font-size: 20px">Tooele County Daughter of Utah Pioneers </span></p>\n<p style="text-align: center">\n	<span style="font-size: 20px">Pioneer Jubilee<br />\n	Saturday\, June 11\, 2011</span></p>\n<p style="text-align: center">\n	<span style="font-size: 20px">47 East Vine Street\, Tooele<br />\n	843-0771</span><br />\n	&nbsp\;</p>\n
LOCATION:
UID:e.125.3295
SEQUENCE:3
DTSTAMP:20260422T074042Z
URL:https://members.tooelechamber.com/events/details/pioneer-jubilee-06-11-2011-3295
END:VEVENT

END:VCALENDAR
