BEGIN:VCALENDAR
VERSION:2.0
PRODID:-//ChamberMaster//Event Calendar 2.0//EN
METHOD:PUBLISH
X-PUBLISHED-TTL:P3D
REFRESH-INTERVAL:P3D
CALSCALE:GREGORIAN
BEGIN:VEVENT
DTSTART:20140802T010000Z
DTEND:20140802T020000Z
X-MICROSOFT-CDO-ALLDAYEVENT:FALSE
SUMMARY:Planning and Zoning
DESCRIPTION:
X-ALT-DESC;FMTTYPE=text/html:
LOCATION:
UID:e.125.5644
SEQUENCE:3
DTSTAMP:20260419T142453Z
URL:https://members.tooelechamber.com/events/details/planning-and-zoning-08-01-2014-5644
END:VEVENT

END:VCALENDAR
