BEGIN:VCALENDAR
VERSION:2.0
PRODID:-//ChamberMaster//Event Calendar 2.0//EN
METHOD:PUBLISH
X-PUBLISHED-TTL:P3D
REFRESH-INTERVAL:P3D
CALSCALE:GREGORIAN
BEGIN:VEVENT
DTSTART:20140806T070000Z
DTEND:20140806T080000Z
X-MICROSOFT-CDO-ALLDAYEVENT:FALSE
SUMMARY:Planning and Zoning
DESCRIPTION:Cancelled
X-ALT-DESC;FMTTYPE=text/html:Cancelled 
LOCATION:
UID:e.125.5634
SEQUENCE:3
DTSTAMP:20260419T123624Z
URL:https://members.tooelechamber.com/events/details/planning-and-zoning-08-06-2014-5634
END:VEVENT

END:VCALENDAR
