BEGIN:VCALENDAR
VERSION:2.0
PRODID:-//ChamberMaster//Event Calendar 2.0//EN
METHOD:PUBLISH
X-PUBLISHED-TTL:P3D
REFRESH-INTERVAL:P3D
CALSCALE:GREGORIAN
BEGIN:VEVENT
DTSTART:20131204T090000Z
DTEND:20131204T100000Z
X-MICROSOFT-CDO-ALLDAYEVENT:FALSE
SUMMARY:Planning and Zoning
DESCRIPTION:
X-ALT-DESC;FMTTYPE=text/html:
LOCATION:Town Hall 18 N Johnson Stockton
UID:e.125.5682
SEQUENCE:3
DTSTAMP:20260420T055639Z
URL:https://members.tooelechamber.com/events/details/planning-and-zoning-12-04-2013-5682
END:VEVENT

END:VCALENDAR
