BEGIN:VCALENDAR
VERSION:2.0
PRODID:-//ChamberMaster//Event Calendar 2.0//EN
METHOD:PUBLISH
X-PUBLISHED-TTL:P3D
REFRESH-INTERVAL:P3D
CALSCALE:GREGORIAN
BEGIN:VEVENT
DTSTART:20100310T020000Z
DTEND:20100310T030000Z
X-MICROSOFT-CDO-ALLDAYEVENT:FALSE
SUMMARY:Poetry Reading
DESCRIPTION:Tuesday March 9th\nfrom 7 to 8 pm\n272 North Broadway\n(350 East) Tooele\n435-840-0679\norder@jackrabbitpress.net\nComplimentary Refreshments provided by:\nThe Tea Caddy\nCome on out and try the scruptious variety of teas\nthey have to offer \n***Come Check Out our New Wide Format Machine***Perfect for Photographs\, Plots\, Scanning in Larger formats and Shrinking Down\, Plan Copies and So Much More!
X-ALT-DESC;FMTTYPE=text/html:<div><p style="text-align: center"><strong><span style="font-family: &quot\;Verdana&quot\;\,&quot\;sans-serif&quot\;\; color: black\; font-size: 14pt">Tuesday March 9th</span></strong><b><span style="font-family: &quot\;Verdana&quot\;\,&quot\;sans-serif&quot\;\; color: black\; font-size: 14pt"><br /><strong><span style="font-family: &quot\;Verdana&quot\;\,&quot\;sans-serif&quot\;">from 7 to 8 pm</span></strong><br /><strong><span style="font-family: &quot\;Verdana&quot\;\,&quot\;sans-serif&quot\;">272 North Broadway</span></strong><br /><strong><span style="font-family: &quot\;Verdana&quot\;\,&quot\;sans-serif&quot\;">(350 East) Tooele</span></strong><br /><strong><span style="font-family: &quot\;Verdana&quot\;\,&quot\;sans-serif&quot\;">435-840-0679</span></strong><br /><strong><span style="font-family: &quot\;Verdana&quot\;\,&quot\;sans-serif&quot\;"><a href="mailto:order@jackrabbitpress.net"><span style="font-weight: normal">order@jackrabbitpress.net</span></a></span></strong><br /><strong><span style="font-family: &quot\;Verdana&quot\;\,&quot\;sans-serif&quot\;">Complimentary Refreshments provided by:</span></strong><br /></span></b><b><span style="font-family: &quot\;Verdana&quot\;\,&quot\;sans-serif&quot\;\; color: black\; font-size: 14pt"><strong><span style="font-family: &quot\;Verdana&quot\;\,&quot\;sans-serif&quot\;">The Tea Caddy</span></strong><br /><strong><span style="font-family: &quot\;Verdana&quot\;\,&quot\;sans-serif&quot\;">Come on out and try the</span></strong></span></b> <b><span style="font-family: &quot\;Verdana&quot\;\,&quot\;sans-serif&quot\;\; color: black\; font-size: 14pt"><strong><span style="font-family: &quot\;Verdana&quot\;\,&quot\;sans-serif&quot\;">scruptious </span></strong></span></b><b><span style="font-family: &quot\;Verdana&quot\;\,&quot\;sans-serif&quot\;\; color: black\; font-size: 14pt"><strong><span style="font-family: &quot\;Verdana&quot\;\,&quot\;sans-serif&quot\;">variety of teas</span></strong><br /><strong><span style="font-family: &quot\;Verdana&quot\;\,&quot\;sans-serif&quot\;">they have to offer </span></strong><br /><strong><span style="font-family: &quot\;Verdana&quot\;\,&quot\;sans-serif&quot\;">***Come Check Out our New Wide Format Machine***</span></strong></span></b><span style="font-family: &quot\;Verdana&quot\;\,&quot\;sans-serif&quot\;\; color: black\; font-size: 10pt"><o:p></o:p></span></p><div style="text-align: center"><strong><span style="font-family: null\; color: black\; font-size: 14pt\; mso-fareast-font-family: Calibri\; mso-fareast-theme-font: minor-latin\; mso-ansi-language: EN-US\; mso-fareast-language: EN-US\; mso-bidi-language: AR-SA"><font face="Times New Roman">Perfect for Photographs\, Plots\, Scanning in Larger formats and Shrinking Down\, Plan Copies and So Much More!</font></span></strong></div></div>
LOCATION:
UID:e.125.3117
SEQUENCE:3
DTSTAMP:20260423T080210Z
URL:https://members.tooelechamber.com/events/details/poetry-reading-03-09-2010-3117
END:VEVENT

END:VCALENDAR
