BEGIN:VCALENDAR
VERSION:2.0
PRODID:-//ChamberMaster//Event Calendar 2.0//EN
METHOD:PUBLISH
X-PUBLISHED-TTL:P3D
REFRESH-INTERVAL:P3D
CALSCALE:GREGORIAN
BEGIN:VEVENT
DTSTART:20100414T010000Z
DTEND:20100414T020000Z
X-MICROSOFT-CDO-ALLDAYEVENT:FALSE
SUMMARY:Poetry Reading
DESCRIPTION:Poetry Reading Tuesday\, April 13th @ 7-8pmJackrabbit Press 272 North Broadway (350 East)\, Tooele (435)840-0679 or order@jackrabbitpress.netComplimentary refreshments provided by: Macey's
X-ALT-DESC;FMTTYPE=text/html:<div style="text-align: center"><span style="font-size: large"><u><strong>Poetry Reading </strong></u></span></div><div style="text-align: center"><span style="font-size: medium">Tuesday\, April 13th @ 7-8pm</span></div><div style="text-align: center"><span style="font-size: medium">Jackrabbit Press </span></div><div style="text-align: center"><span style="font-size: medium">272 North Broadway (350 East)\, Tooele </span></div><div style="text-align: center"><span style="font-size: medium">(435)840-0679 or </span><a href="mailto:order@jackrabbitpress.net"><span style="font-size: medium">order@jackrabbitpress.net</span></a></div><div style="text-align: center"><span style="font-size: medium">Complimentary refreshments provided by: Macey's</span></div>
LOCATION:
UID:e.125.3129
SEQUENCE:3
DTSTAMP:20260423T062144Z
URL:https://members.tooelechamber.com/events/details/poetry-reading-04-13-2010-3129
END:VEVENT

END:VCALENDAR
