BEGIN:VCALENDAR
VERSION:2.0
PRODID:-//ChamberMaster//Event Calendar 2.0//EN
METHOD:PUBLISH
X-PUBLISHED-TTL:P3D
REFRESH-INTERVAL:P3D
CALSCALE:GREGORIAN
BEGIN:VEVENT
DTSTART:20110614T203000Z
DTEND:20110614T223000Z
X-MICROSOFT-CDO-ALLDAYEVENT:FALSE
SUMMARY:Pony Express Ceremony
DESCRIPTION:Pony Express Ceremony\n\n	Tuesday\, June 14\, 2011 @ 2:30pm\n\n	Simpson Springs \n\n	 \n\n	801-971-2654  Mary Jenkins\n\n	www.xphomestation.com
X-ALT-DESC;FMTTYPE=text/html:<p style="text-align: center">\n	<span style="font-size: 20px">Pony Express Ceremony<br />\n	Tuesday\, June 14\, 2011 @ 2:30pm<br />\n	Simpson Springs </span><br />\n	&nbsp\;</p>\n<p class="MsoNormal" style="text-align: center\; margin: 0in 0in 0pt">\n	<span style="font-size: 20px"><font color="#000000"><font face="Times New Roman">801-971-2654<span style="mso-spacerun: yes">&nbsp\; </span>Mary Jenkins</font></font></span><span style="font-size: 14pt"><font color="#000000"><font face="Times New Roman"><o:p></o:p></font></font></span></p>\n<p class="MsoNormal" style="text-align: center\; margin: 0in 0in 0pt">\n	<span style="font-size: 20px"><a href="http://www.xphomestation.com"><font color="#0000ff" face="Times New Roman">www.xphomestation.com</font></a><font color="#000000"><font face="Times New Roman"> </font></font></span><span style="font-size: 14pt"><font color="#000000"><font face="Times New Roman"><span _fck_bookmark="1" style="display: none">&nbsp\;</span><o:p></o:p></font></font></span></p>\n<p>\n	<br />\n	&nbsp\;</p>\n
LOCATION:
UID:e.125.3537
SEQUENCE:3
DTSTAMP:20260422T073751Z
URL:https://members.tooelechamber.com/events/details/pony-express-ceremony-06-14-2011-3537
END:VEVENT

END:VCALENDAR
