BEGIN:VCALENDAR
VERSION:2.0
PRODID:-//ChamberMaster//Event Calendar 2.0//EN
METHOD:PUBLISH
X-PUBLISHED-TTL:P3D
REFRESH-INTERVAL:P3D
CALSCALE:GREGORIAN
BEGIN:VEVENT
DTSTART;VALUE=DATE:20100622
DTEND;VALUE=DATE:20100623
TRANSP:TRANSPARENT
X-MICROSOFT-CDO-ALLDAYEVENT:TRUE
SUMMARY:Primary Election
DESCRIPTION:Clerk's Insider PRIMARY ELECTION   Tuesday\, June 22nd The June Primary Election in Tooele County has only Republican candidates and is a closed primary election.  The Republican Party has chosen to only allow voters associated with the Republican Party to vote in this election\, narrowing down the party's candidates for the November Election. The four political parties registered with the State of Utah this year are: Constitution\, Democratic\, Libertarian and Republican.  All voters not affiliated with one of these parties are considered unaffiliated for this primary election.  Unaffiliated voters may affiliate with the Republican Party at the poll by filling out an affiliation form.  By-Mail Unaffiliated voters will receive an affiliation form with their ballot.  Any voter affiliated with the Constitution\, Democratic or Libertarian party who wishes to vote in the Republican Primary Election\, must change their party affiliation\, in writing\, by May 24\, 2010.  You may change your party affiliation by one of the following methods: 1) Go to the Clerk's website at www.co.tooele.ut.us/clerk.htm.\, click on the "Affiliation Form" link on the right side of the page.  Fill out the form and mail it back to the Clerk's Office\; 2) Call the office at 435-843-3140 and we will mail you a form\; 3) Stop by the Clerk's Office at 47 S. Main\, Suite #318.  Again\, all affiliation forms must be postmarked by May 24\, 2010. The offices that will be on the Primary Election Ballot are: US Senate                                                                    Tooele County SurveyorTim Bridgewater - Republican                                    Douglas J. Kinsman - RepublicanMike Lee - Republican                                                John Riddle - Republican  If you have any questions\, please call the Clerk's Office at 435-843-3140 or 3148.
X-ALT-DESC;FMTTYPE=text/html:<div><p class="MsoNormal" style="margin: 0in 0in 0pt"><i><span style="font-size: 12pt"><font face="Times New Roman">Clerk&rsquo\;s Insider<o:p></o:p></font></span></i></p><p class="MsoNormal" style="margin: 0in 0in 0pt"><i><span style="font-size: 12pt"><o:p><font face="Times New Roman">&nbsp\;</font></o:p></span></i></p><p class="MsoNormal" style="margin: 0in 0in 0pt"><font face="Times New Roman"><i><span style="font-size: 12pt">PRIMARY ELECTION <span style="mso-spacerun: yes">&nbsp\;&nbsp\;</span>Tuesday\, June 22nd</span></i><span style="font-size: 12pt"><o:p></o:p></span></font></p><p class="MsoNormal" style="margin: 0in 0in 0pt"><span style="font-size: 12pt"><o:p><font face="Times New Roman">&nbsp\;</font></o:p></span></p><p class="MsoNormal" style="margin: 0in 0in 0pt"><i><span style="font-size: 12pt"><font face="Times New Roman">The June Primary Election in Tooele County has only Republican candidates and is a closed primary election.<span style="mso-spacerun: yes">&nbsp\; </span>The Republican Party has chosen to only allow voters associated with the Republican Party to vote in this election\, narrowing down the party&rsquo\;s candidates for the November Election.<o:p></o:p></font></span></i></p><p class="MsoNormal" style="margin: 0in 0in 0pt"><i><span style="font-size: 12pt"><o:p><font face="Times New Roman">&nbsp\;</font></o:p></span></i></p><p class="MsoNormal" style="margin: 0in 0in 0pt"><i><span style="font-size: 12pt"><font face="Times New Roman">The four political parties registered with the State of Utah this year are: Constitution\, Democratic\, Libertarian and Republican.<span style="mso-spacerun: yes">&nbsp\; </span>All voters not affiliated with one of these parties are considered unaffiliated for this primary election.<span style="mso-spacerun: yes">&nbsp\; </span>Unaffiliated voters may affiliate with the Republican Party at the poll by filling out an affiliation form.<span style="mso-spacerun: yes">&nbsp\; </span>By-Mail Unaffiliated voters will receive an affiliation form with their ballot.<span style="mso-spacerun: yes">&nbsp\; </span>Any voter affiliated with the Constitution\, Democratic or Libertarian party who wishes to vote in the Republican Primary Election\, must change their party affiliation\, in writing\, by May 24\, 2010.<span style="mso-spacerun: yes">&nbsp\; </span>You may change your party affiliation by one of the following methods: 1) Go to the Clerk&rsquo\;s website at </font></span></i><a href="http://www.co.tooele.ut.us/clerk.htm."><font face="Times New Roman"><span style="color: windowtext\; font-size: 12pt\; text-decoration: none\; text-underline: none">www.co.tooele.ut.us/clerk.htm.</span><span style="color: windowtext\; font-size: 12pt">\,</span></font></a><i><span style="font-size: 12pt"><font face="Times New Roman"> click on the &ldquo\;Affiliation Form&rdquo\; link on the right side of the page.<span style="mso-spacerun: yes">&nbsp\; </span>Fill out the form and mail it back to the Clerk&rsquo\;s Office\; 2) Call the office at 435-843-3140 and we will mail you a form\; 3) Stop by the Clerk&rsquo\;s Office at 47 S. Main\, Suite #318.<span style="mso-spacerun: yes">&nbsp\; </span>Again\, all affiliation forms must be postmarked by May 24\, 2010.<o:p></o:p></font></span></i></p><p class="MsoNormal" style="margin: 0in 0in 0pt"><i><span style="font-size: 12pt"><o:p><font face="Times New Roman">&nbsp\;</font></o:p></span></i></p><p class="MsoNormal" style="margin: 0in 0in 0pt"><i><span style="font-size: 12pt"><font face="Times New Roman">The offices that will be on the Primary Election Ballot are:<o:p></o:p></font></span></i></p><p class="MsoNormal" style="margin: 0in 0in 0pt"><i><span style="font-size: 12pt"><o:p><font face="Times New Roman">&nbsp\;</font></o:p></span></i></p><p class="MsoNormal" style="text-indent: -3.5in\; margin: 0in 0in 0pt 3.5in\; tab-stops: .5in 1.0in 1.5in 2.0in 2.5in 3.0in 3.5in"><font face="Times New Roman"><i><u><span style="font-size: 12pt">US Senate</span></u></i><i><span style="font-size: 12pt"><span style="mso-tab-count: 6">&nbsp\;&nbsp\;&nbsp\;&nbsp\;&nbsp\;&nbsp\;&nbsp\;&nbsp\;&nbsp\;&nbsp\;&nbsp\;&nbsp\;&nbsp\;&nbsp\;&nbsp\;&nbsp\;&nbsp\;&nbsp\;&nbsp\;&nbsp\;&nbsp\;&nbsp\;&nbsp\;&nbsp\;&nbsp\;&nbsp\;&nbsp\;&nbsp\;&nbsp\;&nbsp\;&nbsp\;&nbsp\;&nbsp\;&nbsp\;&nbsp\;&nbsp\;&nbsp\;&nbsp\;&nbsp\;&nbsp\;&nbsp\;&nbsp\;&nbsp\;&nbsp\;&nbsp\;&nbsp\;&nbsp\;&nbsp\;&nbsp\;&nbsp\;&nbsp\;&nbsp\;&nbsp\;&nbsp\;&nbsp\;&nbsp\;&nbsp\;&nbsp\;&nbsp\;&nbsp\;&nbsp\;&nbsp\;&nbsp\;&nbsp\;&nbsp\;&nbsp\;&nbsp\; </span><u>Tooele County Surveyor</u><o:p></o:p></span></i></font></p><p class="MsoNormal" style="text-indent: -3.5in\; margin: 0in 0in 0pt 3.5in\; tab-stops: .5in 1.0in 1.5in 2.0in 2.5in 3.0in 3.5in"><i><span style="font-size: 12pt"><font face="Times New Roman">Tim Bridgewater - Republican<span style="mso-tab-count: 3">&nbsp\;&nbsp\;&nbsp\;&nbsp\;&nbsp\;&nbsp\;&nbsp\;&nbsp\;&nbsp\;&nbsp\;&nbsp\;&nbsp\;&nbsp\;&nbsp\;&nbsp\;&nbsp\;&nbsp\;&nbsp\;&nbsp\;&nbsp\;&nbsp\;&nbsp\;&nbsp\;&nbsp\;&nbsp\;&nbsp\;&nbsp\;&nbsp\;&nbsp\;&nbsp\;&nbsp\;&nbsp\;&nbsp\;&nbsp\;&nbsp\; </span>Douglas J. Kinsman - Republican<o:p></o:p></font></span></i></p><p class="MsoNormal" style="text-indent: -3.5in\; margin: 0in 0in 0pt 3.5in\; tab-stops: .5in 1.0in 1.5in 2.0in 2.5in 3.0in 3.5in"><i><span style="font-size: 12pt"><font face="Times New Roman">Mike Lee - Republican<span style="mso-tab-count: 4">&nbsp\;&nbsp\;&nbsp\;&nbsp\;&nbsp\;&nbsp\;&nbsp\;&nbsp\;&nbsp\;&nbsp\;&nbsp\;&nbsp\;&nbsp\;&nbsp\;&nbsp\;&nbsp\;&nbsp\;&nbsp\;&nbsp\;&nbsp\;&nbsp\;&nbsp\;&nbsp\;&nbsp\;&nbsp\;&nbsp\;&nbsp\;&nbsp\;&nbsp\;&nbsp\;&nbsp\;&nbsp\;&nbsp\;&nbsp\;&nbsp\;&nbsp\;&nbsp\;&nbsp\;&nbsp\;&nbsp\;&nbsp\;&nbsp\;&nbsp\;&nbsp\;&nbsp\;&nbsp\;&nbsp\; </span>John Riddle - Republican<o:p></o:p></font></span></i></p><p class="MsoNormal" style="margin: 0in 0in 0pt"><i><span style="font-size: 12pt"><o:p><font face="Times New Roman">&nbsp\;</font></o:p></span></i></p><p class="MsoNormal" style="margin: 0in 0in 0pt"><i><span style="font-size: 12pt"><o:p><font face="Times New Roman">&nbsp\;</font></o:p></span></i></p><p class="MsoNormal" style="margin: 0in 0in 0pt"><i><span style="font-size: 12pt"><font face="Times New Roman">If you have any questions\, please call the Clerk&rsquo\;s Office at 435-843-3140 or 3148.<o:p></o:p></font></span></i></p><p class="MsoNormal" style="margin: 0in 0in 0pt"><span style="font-size: 12pt"><o:p><font face="Times New Roman">&nbsp\;</font></o:p></span></p></div>
LOCATION:
UID:e.125.3172
SEQUENCE:3
DTSTAMP:20260423T031436Z
URL:https://members.tooelechamber.com/events/details/primary-election-06-22-2010-3172
END:VEVENT

END:VCALENDAR
