BEGIN:VCALENDAR
VERSION:2.0
PRODID:-//ChamberMaster//Event Calendar 2.0//EN
METHOD:PUBLISH
X-PUBLISHED-TTL:P3D
REFRESH-INTERVAL:P3D
CALSCALE:GREGORIAN
BEGIN:VEVENT
DTSTART;VALUE=DATE:20120626
DTEND;VALUE=DATE:20120627
TRANSP:TRANSPARENT
X-MICROSOFT-CDO-ALLDAYEVENT:TRUE
SUMMARY:Primary Elections.
DESCRIPTION:Primary Election. \n\n\n\nRemember please come and vote.
X-ALT-DESC;FMTTYPE=text/html:<span style="font-size: 24px"><strong><u>Primary Election. </u><br />\n<br />\nRemember please come and vote.</strong></span>
LOCATION:
UID:e.125.4860
SEQUENCE:3
DTSTAMP:20260421T121846Z
URL:https://members.tooelechamber.com/events/details/primary-elections-06-26-2012-4860
END:VEVENT

END:VCALENDAR
