BEGIN:VCALENDAR
VERSION:2.0
PRODID:-//ChamberMaster//Event Calendar 2.0//EN
METHOD:PUBLISH
X-PUBLISHED-TTL:P3D
REFRESH-INTERVAL:P3D
CALSCALE:GREGORIAN
BEGIN:VEVENT
DTSTART;VALUE=DATE:20111014
DTEND;VALUE=DATE:20111016
TRANSP:TRANSPARENT
X-MICROSOFT-CDO-ALLDAYEVENT:TRUE
SUMMARY:Pumpkin Walk
DESCRIPTION:Benson Grist Mill Annual Pumpkin Walk\n\n	October 14th-15th\, 2011\n\n	www.bensonmill.org
X-ALT-DESC;FMTTYPE=text/html:<p style="text-align: center">\n	<span style="font-size: 22px">Benson Grist Mill Annual Pumpkin Walk<br />\n	October 14th-15th\, 2011<br />\n	<a href="http://www.bensonmill.org">www.bensonmill.org</a> </span></p>\n
LOCATION:
UID:e.125.3574
SEQUENCE:3
DTSTAMP:20260422T011330Z
URL:https://members.tooelechamber.com/events/details/pumpkin-walk-10-14-2011-3574
END:VEVENT

END:VCALENDAR
