BEGIN:VCALENDAR
VERSION:2.0
PRODID:-//ChamberMaster//Event Calendar 2.0//EN
METHOD:PUBLISH
X-PUBLISHED-TTL:P3D
REFRESH-INTERVAL:P3D
CALSCALE:GREGORIAN
BEGIN:VEVENT
DTSTART:20090926T140000Z
DTEND:20090926T180000Z
X-MICROSOFT-CDO-ALLDAYEVENT:FALSE
SUMMARY:Putt'n It To Leukemia
DESCRIPTION:Miranda Newton is a 20-year-old mother\, wife\, daughter\, and sister who has recently been diagnosed with highly aggressive Burkitt's Lymphoma Leukemia. With 98% cancer cells found in her bone marrow\, they started chemotherapy right away. Miranda has been outgoing many procedures for the past 8 weeks including as many as two- three chemo treatments a day\, which once a week one of her chemo treatments consist of a spinal tap. Miranda has also gone through two bone marrow biopsies.  As you can imagine\, her medical bills grow each day and the financial toll on her family is beginning to mound. All proceeds from this fundraising tournament will be used to help her and her young family through this battle.
X-ALT-DESC;FMTTYPE=text/html:<div><p class="MsoNormal" style="margin: 0in 0in 0pt"><font face="Times New Roman"><span style="font-family: Times-Bold\; mso-bidi-font-size: 11.5pt\; mso-bidi-font-family: Times-Bold\; mso-bidi-font-weight: bold"><font size="3">Miranda Newton is a 20-year-old mother\, wife\, daughter\, and sister who has recently been diagnosed with highly aggressive Burkitt&rsquo\;s Lymphoma Leukemia. With 98% cancer cells found in her bone marrow\, they started chemotherapy right away. Miranda has been outgoing many procedures for the past 8 weeks including as many as two- three chemo treatments a day\, which once a week one of her chemo treatments consist of a spinal tap. Miranda has also gone through two bone marrow biopsies.<span style="mso-spacerun: yes">&nbsp\; </span>As you can imagine\, her medical bills grow each day and the financial toll on her family is beginning to mound. All proceeds from this fundraising tournament will be used to help her and her young family through this battle</font></span><span style="font-size: 10pt\; font-family: Times-Bold\; mso-bidi-font-size: 11.5pt\; mso-bidi-font-family: Times-Bold\; mso-bidi-font-weight: bold">.<o:p></o:p></span></font></p></div>
LOCATION:Stansbury Park Golf Course
UID:e.125.2568
SEQUENCE:3
DTSTAMP:20260423T164228Z
URL:https://members.tooelechamber.com/events/details/putt-n-it-to-leukemia-09-26-2009-2568
END:VEVENT

END:VCALENDAR
