BEGIN:VCALENDAR
VERSION:2.0
PRODID:-//ChamberMaster//Event Calendar 2.0//EN
METHOD:PUBLISH
X-PUBLISHED-TTL:P3D
REFRESH-INTERVAL:P3D
CALSCALE:GREGORIAN
BEGIN:VEVENT
DTSTART:20070627T140000Z
DTEND:20070628T153000Z
X-MICROSOFT-CDO-ALLDAYEVENT:FALSE
SUMMARY:Ready Your Business Training
DESCRIPTION:Each year disasters force thousands of businesses to close.  But even more common events such as building fires\, broken water lines or sudden loss of data cause the same result.  SBA research shows that at least 25 percent of businesses that close following events such as these do not reopen.  Many that do   struggle just to stay in business.  Every Business should have a plan  It just makes good business sense! v      Over 90% of companies experiencing a major data loss can not fully recover all of their information v      40-45% of businesses fail to resume operations after a major theft or fire v      25% of businesses do not reopen following a major disaster.  Participants of the Ready Your Business -12 Point Program to Business Continuity Planning will learn the value of Business Continuity Planning during this interactive workshop series with hands on instruction\, a sample continuity plan guidebook\, handouts and resource links.
X-ALT-DESC;FMTTYPE=text/html:<p class="MsoBodyText3" style="MARGIN: 0in 0in 0pt"><span style="FONT-SIZE: 11pt\; mso-bidi-font-size: 12.0pt">Each year disasters force thousands of businesses to close.<span style="mso-spacerun: yes">&nbsp\; </span>But even more common events such as building fires\, broken water lines or sudden loss of data cause the same result.<span style="mso-spacerun: yes">&nbsp\; </span>SBA research shows that at least 25 percent of businesses that close following events such as these do not reopen.<span style="mso-spacerun: yes">&nbsp\; </span>Many that do &ndash\; struggle just to stay in business.<o:p></o:p></span></p><p class="MsoBodyText2" style="MARGIN: 0in 0in 0pt\; TEXT-ALIGN: justify"><span style="mso-spacerun: yes"><font size="2">&nbsp\; </font></span></p><h2 style="MARGIN: 0in 0in 0pt"><span style="COLOR: blue"><font size="3">Every Business should have a plan &hellip\;<o:p></o:p></font></span></h2><p class="MsoNormal" style="MARGIN: 0in 0in 0pt\; TEXT-ALIGN: center" align="center"><strong><em><span style="COLOR: blue\; FONT-FAMILY: Arial"><font size="3">It just makes good business sense!<o:p></o:p></font></span></em></strong></p><p class="MsoNormal" style="MARGIN: 0in 0in 0pt"><span style="FONT-SIZE: 8pt\; FONT-FAMILY: Arial\; mso-bidi-font-size: 12.0pt"><o:p>&nbsp\;</o:p></span></p><p class="MsoNormal" style="MARGIN: 0in 0in 0pt 0.5in\; TEXT-INDENT: -0.25in\; mso-list: l0 level1 lfo1\; tab-stops: list .5in"><span style="FONT-SIZE: 11pt\; FONT-FAMILY: Wingdings\; mso-bidi-font-size: 12.0pt\; mso-fareast-font-family: Wingdings\; mso-bidi-font-family: Wingdings"><span style="mso-list: Ignore">v<span style="FONT: 7pt &quot\;Times New Roman&quot\;">&nbsp\;&nbsp\;&nbsp\;&nbsp\;&nbsp\; </span></span></span><span style="FONT-SIZE: 11pt\; FONT-FAMILY: Arial\; mso-bidi-font-size: 12.0pt">Over 90% of companies experiencing a major data loss can not fully recover all of their information<o:p></o:p></span></p><p class="MsoNormal" style="MARGIN: 0in 0in 0pt 0.25in"><span style="FONT-SIZE: 8pt\; FONT-FAMILY: Arial\; mso-bidi-font-size: 12.0pt"><o:p>&nbsp\;</o:p></span></p><p class="MsoNormal" style="MARGIN: 0in 0in 0pt 0.5in\; TEXT-INDENT: -0.25in\; mso-list: l0 level1 lfo1\; tab-stops: list .5in"><span style="FONT-SIZE: 11pt\; FONT-FAMILY: Wingdings\; mso-bidi-font-size: 12.0pt\; mso-fareast-font-family: Wingdings\; mso-bidi-font-family: Wingdings"><span style="mso-list: Ignore">v<span style="FONT: 7pt &quot\;Times New Roman&quot\;">&nbsp\;&nbsp\;&nbsp\;&nbsp\;&nbsp\; </span></span></span><span style="FONT-SIZE: 11pt\; FONT-FAMILY: Arial\; mso-bidi-font-size: 12.0pt">40-45% of businesses fail to resume operations after a major theft or fire<o:p></o:p></span></p><p class="MsoNormal" style="MARGIN: 0in 0in 0pt 0.25in"><span style="FONT-SIZE: 9pt\; FONT-FAMILY: Arial\; mso-bidi-font-size: 12.0pt"><o:p>&nbsp\;</o:p></span></p><p class="MsoNormal" style="MARGIN: 0in 0in 0pt 0.5in\; TEXT-INDENT: -0.25in\; mso-list: l0 level1 lfo1\; tab-stops: list .5in"><span style="FONT-SIZE: 11pt\; FONT-FAMILY: Wingdings\; mso-bidi-font-size: 12.0pt\; mso-fareast-font-family: Wingdings\; mso-bidi-font-family: Wingdings"><span style="mso-list: Ignore">v<span style="FONT: 7pt &quot\;Times New Roman&quot\;">&nbsp\;&nbsp\;&nbsp\;&nbsp\;&nbsp\; </span></span></span><span style="FONT-SIZE: 11pt\; FONT-FAMILY: Arial\; mso-bidi-font-size: 12.0pt">25% of businesses do not reopen following a major disaster. <o:p></o:p></span></p><p class="MsoNormal" style="MARGIN: 0in 0in 0pt 0.25in"><span style="FONT-SIZE: 10pt\; FONT-FAMILY: Arial\; mso-bidi-font-size: 12.0pt"><o:p>&nbsp\;</o:p></span></p><p class="Style0" style="MARGIN: 0in 0in 0pt\; TEXT-ALIGN: justify"><strong style="mso-bidi-font-weight: normal"><span style="FONT-SIZE: 11pt\; COLOR: black\; mso-bidi-font-family: Arial">Participants of the<span style="mso-bidi-font-weight: bold"> </span></span></strong><strong><span style="FONT-SIZE: 11pt\; COLOR: red\; mso-bidi-font-family: Arial">Ready Your Business</span></strong><strong style="mso-bidi-font-weight: normal"><span style="FONT-SIZE: 11pt\; COLOR: red\; mso-bidi-font-family: Arial"> -<span style="mso-bidi-font-weight: bold">12 Point Program to Business Continuity Planning</span></span></strong><strong><span style="FONT-SIZE: 11pt\; COLOR: blue\; mso-bidi-font-family: Arial"> </span></strong><strong style="mso-bidi-font-weight: normal"><span style="FONT-SIZE: 11pt\; COLOR: black\; mso-bidi-font-family: Arial">will l</span></strong><strong style="mso-bidi-font-weight: normal"><span style="FONT-SIZE: 11pt\; mso-bidi-font-size: 12.0pt\; mso-bidi-font-family: Arial">earn the value of Business Continuity Planning during this interactive workshop series with hands on instruction\,</span></strong><strong style="mso-bidi-font-weight: normal"><span style="FONT-SIZE: 11pt\; COLOR: black\; mso-bidi-font-family: Arial"> a sample continuity plan guidebook\, handouts and resource links</span></strong><span style="FONT-SIZE: 11pt\; COLOR: black\; mso-bidi-font-family: Arial">. <o:p></o:p></span></p>
LOCATION:Hosted by: Tooele County Chamber of CommerceSponsored by: Tooele County Emergency ManagementLocation: Tooele County Courthouse AuditoriumRSVP to: Chamber office 435-882-0690
UID:e.125.110
SEQUENCE:3
DTSTAMP:20260425T114048Z
URL:https://members.tooelechamber.com/events/details/ready-your-business-training-06-27-2007-110
END:VEVENT

END:VCALENDAR
