BEGIN:VCALENDAR
VERSION:2.0
PRODID:-//ChamberMaster//Event Calendar 2.0//EN
METHOD:PUBLISH
X-PUBLISHED-TTL:P3D
REFRESH-INTERVAL:P3D
CALSCALE:GREGORIAN
BEGIN:VEVENT
DTSTART;VALUE=DATE:20140808
DTEND;VALUE=DATE:20140810
TRANSP:TRANSPARENT
X-MICROSOFT-CDO-ALLDAYEVENT:TRUE
SUMMARY:Relay For Life
DESCRIPTION:Relay for Life
X-ALT-DESC;FMTTYPE=text/html:Relay for Life
LOCATION:Dow James Building
UID:e.125.5375
SEQUENCE:3
DTSTAMP:20260419T125028Z
URL:https://members.tooelechamber.com/events/details/relay-for-life-08-08-2014-5375
END:VEVENT

END:VCALENDAR
