BEGIN:VCALENDAR
VERSION:2.0
PRODID:-//ChamberMaster//Event Calendar 2.0//EN
METHOD:PUBLISH
X-PUBLISHED-TTL:P3D
REFRESH-INTERVAL:P3D
CALSCALE:GREGORIAN
BEGIN:VEVENT
DTSTART:20140808T010000Z
DTEND:20140808T030000Z
X-MICROSOFT-CDO-ALLDAYEVENT:FALSE
SUMMARY:Relay for Life Survivors Dinner
DESCRIPTION:Cancer Survivors Dinner
X-ALT-DESC;FMTTYPE=text/html:Cancer Survivors Dinner
LOCATION:Dow James Building
UID:e.125.5374
SEQUENCE:3
DTSTAMP:20260419T124120Z
URL:https://members.tooelechamber.com/events/details/relay-for-life-survivors-dinner-08-07-2014-5374
END:VEVENT

END:VCALENDAR
