BEGIN:VCALENDAR
VERSION:2.0
PRODID:-//ChamberMaster//Event Calendar 2.0//EN
METHOD:PUBLISH
X-PUBLISHED-TTL:P3D
REFRESH-INTERVAL:P3D
CALSCALE:GREGORIAN
BEGIN:VEVENT
DTSTART;VALUE=DATE:20110304
DTEND;VALUE=DATE:20110305
TRANSP:TRANSPARENT
X-MICROSOFT-CDO-ALLDAYEVENT:TRUE
SUMMARY:Republican Party Lincoln Day Banquet
DESCRIPTION:Republican Party Lincoln Day Banquet \n\n	Contact: Chris Sloan 435-840-5031
X-ALT-DESC;FMTTYPE=text/html:<p style="text-align: center">\n	<span style="font-size: 20px">Republican Party Lincoln Day Banquet </span></p>\n<p style="text-align: center">\n	<span style="font-size: 20px">Contact: Chris Sloan 435-840-5031</span></p>\n
LOCATION:
UID:e.125.3506
SEQUENCE:3
DTSTAMP:20260422T122247Z
URL:https://members.tooelechamber.com/events/details/republican-party-lincoln-day-banquet-03-04-2011-3506
END:VEVENT

END:VCALENDAR
