BEGIN:VCALENDAR
VERSION:2.0
PRODID:-//ChamberMaster//Event Calendar 2.0//EN
METHOD:PUBLISH
X-PUBLISHED-TTL:P3D
REFRESH-INTERVAL:P3D
CALSCALE:GREGORIAN
BEGIN:VEVENT
DTSTART:20110818T150000Z
DTEND:20110818T173000Z
X-MICROSOFT-CDO-ALLDAYEVENT:FALSE
SUMMARY:Resume Building
DESCRIPTION:Resume Writing: Learn modern methods of developing an effective resume that will get you the interview! \n\n	 Community Learning Center\n\n	211 South Tooele Blvd\, Room 215/218\n\n	Register today\n\n	NO COST!!
X-ALT-DESC;FMTTYPE=text/html:<p style="text-align: center">\n	&nbsp\;</p>\n<p style="text-align: center">\n	<b><font size="4">Resume Writing</font></b><font face="Arial\,Arial" size="4"><font face="Arial\,Arial" size="4">: </font></font><font face="Arial\,Arial" size="3"><font face="Arial\,Arial" size="3">Learn modern methods of developing an effective resume that will get you the interview! </font></font></p>\n<p style="text-align: center">\n	<font face="Arial\,Arial" size="3"><font face="Arial\,Arial" size="3"><span _fck_bookmark="1" style="display: none">&nbsp\;</span></font></font>Community Learning Center<br />\n	211 South Tooele Blvd\, Room 215/218<br />\n	Register today<br />\n	NO COST!!</p>\n
LOCATION:
UID:e.125.3866
SEQUENCE:3
DTSTAMP:20260422T043529Z
URL:https://members.tooelechamber.com/events/details/resume-building-08-18-2011-3866
END:VEVENT

END:VCALENDAR
